BEGIN:VCALENDAR
VERSION:2.0
PRODID:-//International Association of Eating Disorders Professionals - ECPv6.15.18//NONSGML v1.0//EN
CALSCALE:GREGORIAN
METHOD:PUBLISH
X-ORIGINAL-URL:https://iaedpfoundation.com
X-WR-CALDESC:Events for International Association of Eating Disorders Professionals
REFRESH-INTERVAL;VALUE=DURATION:PT1H
X-Robots-Tag:noindex
X-PUBLISHED-TTL:PT1H
BEGIN:VTIMEZONE
TZID:America/New_York
BEGIN:DAYLIGHT
TZOFFSETFROM:-0500
TZOFFSETTO:-0400
TZNAME:EDT
DTSTART:20280312T070000
END:DAYLIGHT
BEGIN:STANDARD
TZOFFSETFROM:-0400
TZOFFSETTO:-0500
TZNAME:EST
DTSTART:20281105T060000
END:STANDARD
BEGIN:DAYLIGHT
TZOFFSETFROM:-0500
TZOFFSETTO:-0400
TZNAME:EDT
DTSTART:20290311T070000
END:DAYLIGHT
BEGIN:STANDARD
TZOFFSETFROM:-0400
TZOFFSETTO:-0500
TZNAME:EST
DTSTART:20291104T060000
END:STANDARD
BEGIN:DAYLIGHT
TZOFFSETFROM:-0500
TZOFFSETTO:-0400
TZNAME:EDT
DTSTART:20300310T070000
END:DAYLIGHT
BEGIN:STANDARD
TZOFFSETFROM:-0400
TZOFFSETTO:-0500
TZNAME:EST
DTSTART:20301103T060000
END:STANDARD
BEGIN:DAYLIGHT
TZOFFSETFROM:-0500
TZOFFSETTO:-0400
TZNAME:EDT
DTSTART:20310309T070000
END:DAYLIGHT
BEGIN:STANDARD
TZOFFSETFROM:-0400
TZOFFSETTO:-0500
TZNAME:EST
DTSTART:20311102T060000
END:STANDARD
BEGIN:DAYLIGHT
TZOFFSETFROM:-0500
TZOFFSETTO:-0400
TZNAME:EDT
DTSTART:20320314T070000
END:DAYLIGHT
BEGIN:STANDARD
TZOFFSETFROM:-0400
TZOFFSETTO:-0500
TZNAME:EST
DTSTART:20321107T060000
END:STANDARD
END:VTIMEZONE
BEGIN:VEVENT
DTSTART;TZID=America/New_York:20290628T120000
DTEND;TZID=America/New_York:20290628T130000
DTSTAMP:20260421T100224
CREATED:20260316T230422Z
LAST-MODIFIED:20260316T230453Z
UID:10000900-1877342400-1877346000@iaedpfoundation.com
SUMMARY:International Chapter Canada - Monthly Peer Consultation and Guidance
DESCRIPTION:Do you work in Eating Disorders and live in Canada?\n\n\n\nJoin our monthly virtual meeting to discuss our work. \n\n\n\nLast Thursday of each month from 9:00 am to 10:00 am PT / 12:00 pm to 1:00pm ET  \n\n\n\nThis virtual drop-in session is open to all Canadian iaedp members and those interested in joining. Hosted by Andrew Sofin\, iaedp Chapter Chair for Canada. The meeting offers networking\, peer guidance\, support\, and informal peer case consultation.  \n\n\n\n\n\n\n\nJoin Zoom Meeting \n\n\n\nhttps://us06web.zoom.us/j/87087970176?pwd=Kfio1n3FTiC3Rgk3w3S3MkoaTgO8Ux.1 \n\n\n\nMeeting ID: 870 8797 0176 \n\n\n\nPasscode: 876009 \n\n\n\n— \n\n\n\nOne tap mobile \n\n\n\n+13017158592\,\,87087970176#\,\,\,\,*876009# US (Washington DC) \n\n\n\n+13052241968\,\,87087970176#\,\,\,\,*876009# US \n\n\n\nJoin instructions \n\n\n\nhttps://us06web.zoom.us/meetings/87087970176/invitations?signature=b8coJK1ICciASChbaPwKzJ4NF4lpY4T4DMk4aVR9b3g
URL:https://iaedpfoundation.com/event/international-chapter-canada-monthly-peer-consultation-and-guidance-2/2029-06-28/
CATEGORIES:Chapter Event,Virtual
ATTACH;FMTTYPE=image/jpeg:https://iaedpfoundation.com/wp-content/uploads/2025/12/WhatsApp-Image-2025-10-21-at-11.56.45-AM.jpeg
END:VEVENT
BEGIN:VEVENT
DTSTART;TZID=America/New_York:20290726T120000
DTEND;TZID=America/New_York:20290726T130000
DTSTAMP:20260421T100224
CREATED:20260316T230422Z
LAST-MODIFIED:20260316T230453Z
UID:10000901-1879761600-1879765200@iaedpfoundation.com
SUMMARY:International Chapter Canada - Monthly Peer Consultation and Guidance
DESCRIPTION:Do you work in Eating Disorders and live in Canada?\n\n\n\nJoin our monthly virtual meeting to discuss our work. \n\n\n\nLast Thursday of each month from 9:00 am to 10:00 am PT / 12:00 pm to 1:00pm ET  \n\n\n\nThis virtual drop-in session is open to all Canadian iaedp members and those interested in joining. Hosted by Andrew Sofin\, iaedp Chapter Chair for Canada. The meeting offers networking\, peer guidance\, support\, and informal peer case consultation.  \n\n\n\n\n\n\n\nJoin Zoom Meeting \n\n\n\nhttps://us06web.zoom.us/j/87087970176?pwd=Kfio1n3FTiC3Rgk3w3S3MkoaTgO8Ux.1 \n\n\n\nMeeting ID: 870 8797 0176 \n\n\n\nPasscode: 876009 \n\n\n\n— \n\n\n\nOne tap mobile \n\n\n\n+13017158592\,\,87087970176#\,\,\,\,*876009# US (Washington DC) \n\n\n\n+13052241968\,\,87087970176#\,\,\,\,*876009# US \n\n\n\nJoin instructions \n\n\n\nhttps://us06web.zoom.us/meetings/87087970176/invitations?signature=b8coJK1ICciASChbaPwKzJ4NF4lpY4T4DMk4aVR9b3g
URL:https://iaedpfoundation.com/event/international-chapter-canada-monthly-peer-consultation-and-guidance-2/2029-07-26/
CATEGORIES:Chapter Event,Virtual
ATTACH;FMTTYPE=image/jpeg:https://iaedpfoundation.com/wp-content/uploads/2025/12/WhatsApp-Image-2025-10-21-at-11.56.45-AM.jpeg
END:VEVENT
BEGIN:VEVENT
DTSTART;TZID=America/New_York:20290927T120000
DTEND;TZID=America/New_York:20290927T130000
DTSTAMP:20260421T100224
CREATED:20260316T230422Z
LAST-MODIFIED:20260316T230453Z
UID:10000903-1885204800-1885208400@iaedpfoundation.com
SUMMARY:International Chapter Canada - Monthly Peer Consultation and Guidance
DESCRIPTION:Do you work in Eating Disorders and live in Canada?\n\n\n\nJoin our monthly virtual meeting to discuss our work. \n\n\n\nLast Thursday of each month from 9:00 am to 10:00 am PT / 12:00 pm to 1:00pm ET  \n\n\n\nThis virtual drop-in session is open to all Canadian iaedp members and those interested in joining. Hosted by Andrew Sofin\, iaedp Chapter Chair for Canada. The meeting offers networking\, peer guidance\, support\, and informal peer case consultation.  \n\n\n\n\n\n\n\nJoin Zoom Meeting \n\n\n\nhttps://us06web.zoom.us/j/87087970176?pwd=Kfio1n3FTiC3Rgk3w3S3MkoaTgO8Ux.1 \n\n\n\nMeeting ID: 870 8797 0176 \n\n\n\nPasscode: 876009 \n\n\n\n— \n\n\n\nOne tap mobile \n\n\n\n+13017158592\,\,87087970176#\,\,\,\,*876009# US (Washington DC) \n\n\n\n+13052241968\,\,87087970176#\,\,\,\,*876009# US \n\n\n\nJoin instructions \n\n\n\nhttps://us06web.zoom.us/meetings/87087970176/invitations?signature=b8coJK1ICciASChbaPwKzJ4NF4lpY4T4DMk4aVR9b3g
URL:https://iaedpfoundation.com/event/international-chapter-canada-monthly-peer-consultation-and-guidance-2/2029-09-27/
CATEGORIES:Chapter Event,Virtual
ATTACH;FMTTYPE=image/jpeg:https://iaedpfoundation.com/wp-content/uploads/2025/12/WhatsApp-Image-2025-10-21-at-11.56.45-AM.jpeg
END:VEVENT
BEGIN:VEVENT
DTSTART;TZID=America/New_York:20291025T120000
DTEND;TZID=America/New_York:20291025T130000
DTSTAMP:20260421T100224
CREATED:20260316T230422Z
LAST-MODIFIED:20260316T230453Z
UID:10000904-1887624000-1887627600@iaedpfoundation.com
SUMMARY:International Chapter Canada - Monthly Peer Consultation and Guidance
DESCRIPTION:Do you work in Eating Disorders and live in Canada?\n\n\n\nJoin our monthly virtual meeting to discuss our work. \n\n\n\nLast Thursday of each month from 9:00 am to 10:00 am PT / 12:00 pm to 1:00pm ET  \n\n\n\nThis virtual drop-in session is open to all Canadian iaedp members and those interested in joining. Hosted by Andrew Sofin\, iaedp Chapter Chair for Canada. The meeting offers networking\, peer guidance\, support\, and informal peer case consultation.  \n\n\n\n\n\n\n\nJoin Zoom Meeting \n\n\n\nhttps://us06web.zoom.us/j/87087970176?pwd=Kfio1n3FTiC3Rgk3w3S3MkoaTgO8Ux.1 \n\n\n\nMeeting ID: 870 8797 0176 \n\n\n\nPasscode: 876009 \n\n\n\n— \n\n\n\nOne tap mobile \n\n\n\n+13017158592\,\,87087970176#\,\,\,\,*876009# US (Washington DC) \n\n\n\n+13052241968\,\,87087970176#\,\,\,\,*876009# US \n\n\n\nJoin instructions \n\n\n\nhttps://us06web.zoom.us/meetings/87087970176/invitations?signature=b8coJK1ICciASChbaPwKzJ4NF4lpY4T4DMk4aVR9b3g
URL:https://iaedpfoundation.com/event/international-chapter-canada-monthly-peer-consultation-and-guidance-2/2029-10-25/
CATEGORIES:Chapter Event,Virtual
ATTACH;FMTTYPE=image/jpeg:https://iaedpfoundation.com/wp-content/uploads/2025/12/WhatsApp-Image-2025-10-21-at-11.56.45-AM.jpeg
END:VEVENT
BEGIN:VEVENT
DTSTART;TZID=America/New_York:20291227T120000
DTEND;TZID=America/New_York:20291227T130000
DTSTAMP:20260421T100224
CREATED:20260316T230422Z
LAST-MODIFIED:20260316T230453Z
UID:10000906-1893067200-1893070800@iaedpfoundation.com
SUMMARY:International Chapter Canada - Monthly Peer Consultation and Guidance
DESCRIPTION:Do you work in Eating Disorders and live in Canada?\n\n\n\nJoin our monthly virtual meeting to discuss our work. \n\n\n\nLast Thursday of each month from 9:00 am to 10:00 am PT / 12:00 pm to 1:00pm ET  \n\n\n\nThis virtual drop-in session is open to all Canadian iaedp members and those interested in joining. Hosted by Andrew Sofin\, iaedp Chapter Chair for Canada. The meeting offers networking\, peer guidance\, support\, and informal peer case consultation.  \n\n\n\n\n\n\n\nJoin Zoom Meeting \n\n\n\nhttps://us06web.zoom.us/j/87087970176?pwd=Kfio1n3FTiC3Rgk3w3S3MkoaTgO8Ux.1 \n\n\n\nMeeting ID: 870 8797 0176 \n\n\n\nPasscode: 876009 \n\n\n\n— \n\n\n\nOne tap mobile \n\n\n\n+13017158592\,\,87087970176#\,\,\,\,*876009# US (Washington DC) \n\n\n\n+13052241968\,\,87087970176#\,\,\,\,*876009# US \n\n\n\nJoin instructions \n\n\n\nhttps://us06web.zoom.us/meetings/87087970176/invitations?signature=b8coJK1ICciASChbaPwKzJ4NF4lpY4T4DMk4aVR9b3g
URL:https://iaedpfoundation.com/event/international-chapter-canada-monthly-peer-consultation-and-guidance-2/2029-12-27/
CATEGORIES:Chapter Event,Virtual
ATTACH;FMTTYPE=image/jpeg:https://iaedpfoundation.com/wp-content/uploads/2025/12/WhatsApp-Image-2025-10-21-at-11.56.45-AM.jpeg
END:VEVENT
BEGIN:VEVENT
DTSTART;TZID=America/New_York:20300228T120000
DTEND;TZID=America/New_York:20300228T130000
DTSTAMP:20260421T100224
CREATED:20260316T230422Z
LAST-MODIFIED:20260316T230453Z
UID:10000908-1898510400-1898514000@iaedpfoundation.com
SUMMARY:International Chapter Canada - Monthly Peer Consultation and Guidance
DESCRIPTION:Do you work in Eating Disorders and live in Canada?\n\n\n\nJoin our monthly virtual meeting to discuss our work. \n\n\n\nLast Thursday of each month from 9:00 am to 10:00 am PT / 12:00 pm to 1:00pm ET  \n\n\n\nThis virtual drop-in session is open to all Canadian iaedp members and those interested in joining. Hosted by Andrew Sofin\, iaedp Chapter Chair for Canada. The meeting offers networking\, peer guidance\, support\, and informal peer case consultation.  \n\n\n\n\n\n\n\nJoin Zoom Meeting \n\n\n\nhttps://us06web.zoom.us/j/87087970176?pwd=Kfio1n3FTiC3Rgk3w3S3MkoaTgO8Ux.1 \n\n\n\nMeeting ID: 870 8797 0176 \n\n\n\nPasscode: 876009 \n\n\n\n— \n\n\n\nOne tap mobile \n\n\n\n+13017158592\,\,87087970176#\,\,\,\,*876009# US (Washington DC) \n\n\n\n+13052241968\,\,87087970176#\,\,\,\,*876009# US \n\n\n\nJoin instructions \n\n\n\nhttps://us06web.zoom.us/meetings/87087970176/invitations?signature=b8coJK1ICciASChbaPwKzJ4NF4lpY4T4DMk4aVR9b3g
URL:https://iaedpfoundation.com/event/international-chapter-canada-monthly-peer-consultation-and-guidance-2/2030-02-28/
CATEGORIES:Chapter Event,Virtual
ATTACH;FMTTYPE=image/jpeg:https://iaedpfoundation.com/wp-content/uploads/2025/12/WhatsApp-Image-2025-10-21-at-11.56.45-AM.jpeg
END:VEVENT
BEGIN:VEVENT
DTSTART;TZID=America/New_York:20300328T120000
DTEND;TZID=America/New_York:20300328T130000
DTSTAMP:20260421T100224
CREATED:20260316T230422Z
LAST-MODIFIED:20260316T230453Z
UID:10000909-1900929600-1900933200@iaedpfoundation.com
SUMMARY:International Chapter Canada - Monthly Peer Consultation and Guidance
DESCRIPTION:Do you work in Eating Disorders and live in Canada?\n\n\n\nJoin our monthly virtual meeting to discuss our work. \n\n\n\nLast Thursday of each month from 9:00 am to 10:00 am PT / 12:00 pm to 1:00pm ET  \n\n\n\nThis virtual drop-in session is open to all Canadian iaedp members and those interested in joining. Hosted by Andrew Sofin\, iaedp Chapter Chair for Canada. The meeting offers networking\, peer guidance\, support\, and informal peer case consultation.  \n\n\n\n\n\n\n\nJoin Zoom Meeting \n\n\n\nhttps://us06web.zoom.us/j/87087970176?pwd=Kfio1n3FTiC3Rgk3w3S3MkoaTgO8Ux.1 \n\n\n\nMeeting ID: 870 8797 0176 \n\n\n\nPasscode: 876009 \n\n\n\n— \n\n\n\nOne tap mobile \n\n\n\n+13017158592\,\,87087970176#\,\,\,\,*876009# US (Washington DC) \n\n\n\n+13052241968\,\,87087970176#\,\,\,\,*876009# US \n\n\n\nJoin instructions \n\n\n\nhttps://us06web.zoom.us/meetings/87087970176/invitations?signature=b8coJK1ICciASChbaPwKzJ4NF4lpY4T4DMk4aVR9b3g
URL:https://iaedpfoundation.com/event/international-chapter-canada-monthly-peer-consultation-and-guidance-2/2030-03-28/
CATEGORIES:Chapter Event,Virtual
ATTACH;FMTTYPE=image/jpeg:https://iaedpfoundation.com/wp-content/uploads/2025/12/WhatsApp-Image-2025-10-21-at-11.56.45-AM.jpeg
END:VEVENT
BEGIN:VEVENT
DTSTART;TZID=America/New_York:20300425T120000
DTEND;TZID=America/New_York:20300425T130000
DTSTAMP:20260421T100224
CREATED:20260316T230422Z
LAST-MODIFIED:20260316T230453Z
UID:10000910-1903348800-1903352400@iaedpfoundation.com
SUMMARY:International Chapter Canada - Monthly Peer Consultation and Guidance
DESCRIPTION:Do you work in Eating Disorders and live in Canada?\n\n\n\nJoin our monthly virtual meeting to discuss our work. \n\n\n\nLast Thursday of each month from 9:00 am to 10:00 am PT / 12:00 pm to 1:00pm ET  \n\n\n\nThis virtual drop-in session is open to all Canadian iaedp members and those interested in joining. Hosted by Andrew Sofin\, iaedp Chapter Chair for Canada. The meeting offers networking\, peer guidance\, support\, and informal peer case consultation.  \n\n\n\n\n\n\n\nJoin Zoom Meeting \n\n\n\nhttps://us06web.zoom.us/j/87087970176?pwd=Kfio1n3FTiC3Rgk3w3S3MkoaTgO8Ux.1 \n\n\n\nMeeting ID: 870 8797 0176 \n\n\n\nPasscode: 876009 \n\n\n\n— \n\n\n\nOne tap mobile \n\n\n\n+13017158592\,\,87087970176#\,\,\,\,*876009# US (Washington DC) \n\n\n\n+13052241968\,\,87087970176#\,\,\,\,*876009# US \n\n\n\nJoin instructions \n\n\n\nhttps://us06web.zoom.us/meetings/87087970176/invitations?signature=b8coJK1ICciASChbaPwKzJ4NF4lpY4T4DMk4aVR9b3g
URL:https://iaedpfoundation.com/event/international-chapter-canada-monthly-peer-consultation-and-guidance-2/2030-04-25/
CATEGORIES:Chapter Event,Virtual
ATTACH;FMTTYPE=image/jpeg:https://iaedpfoundation.com/wp-content/uploads/2025/12/WhatsApp-Image-2025-10-21-at-11.56.45-AM.jpeg
END:VEVENT
BEGIN:VEVENT
DTSTART;TZID=America/New_York:20300627T120000
DTEND;TZID=America/New_York:20300627T130000
DTSTAMP:20260421T100224
CREATED:20260316T230422Z
LAST-MODIFIED:20260316T230453Z
UID:10000912-1908792000-1908795600@iaedpfoundation.com
SUMMARY:International Chapter Canada - Monthly Peer Consultation and Guidance
DESCRIPTION:Do you work in Eating Disorders and live in Canada?\n\n\n\nJoin our monthly virtual meeting to discuss our work. \n\n\n\nLast Thursday of each month from 9:00 am to 10:00 am PT / 12:00 pm to 1:00pm ET  \n\n\n\nThis virtual drop-in session is open to all Canadian iaedp members and those interested in joining. Hosted by Andrew Sofin\, iaedp Chapter Chair for Canada. The meeting offers networking\, peer guidance\, support\, and informal peer case consultation.  \n\n\n\n\n\n\n\nJoin Zoom Meeting \n\n\n\nhttps://us06web.zoom.us/j/87087970176?pwd=Kfio1n3FTiC3Rgk3w3S3MkoaTgO8Ux.1 \n\n\n\nMeeting ID: 870 8797 0176 \n\n\n\nPasscode: 876009 \n\n\n\n— \n\n\n\nOne tap mobile \n\n\n\n+13017158592\,\,87087970176#\,\,\,\,*876009# US (Washington DC) \n\n\n\n+13052241968\,\,87087970176#\,\,\,\,*876009# US \n\n\n\nJoin instructions \n\n\n\nhttps://us06web.zoom.us/meetings/87087970176/invitations?signature=b8coJK1ICciASChbaPwKzJ4NF4lpY4T4DMk4aVR9b3g
URL:https://iaedpfoundation.com/event/international-chapter-canada-monthly-peer-consultation-and-guidance-2/2030-06-27/
CATEGORIES:Chapter Event,Virtual
ATTACH;FMTTYPE=image/jpeg:https://iaedpfoundation.com/wp-content/uploads/2025/12/WhatsApp-Image-2025-10-21-at-11.56.45-AM.jpeg
END:VEVENT
BEGIN:VEVENT
DTSTART;TZID=America/New_York:20300725T120000
DTEND;TZID=America/New_York:20300725T130000
DTSTAMP:20260421T100224
CREATED:20260316T230422Z
LAST-MODIFIED:20260316T230453Z
UID:10000913-1911211200-1911214800@iaedpfoundation.com
SUMMARY:International Chapter Canada - Monthly Peer Consultation and Guidance
DESCRIPTION:Do you work in Eating Disorders and live in Canada?\n\n\n\nJoin our monthly virtual meeting to discuss our work. \n\n\n\nLast Thursday of each month from 9:00 am to 10:00 am PT / 12:00 pm to 1:00pm ET  \n\n\n\nThis virtual drop-in session is open to all Canadian iaedp members and those interested in joining. Hosted by Andrew Sofin\, iaedp Chapter Chair for Canada. The meeting offers networking\, peer guidance\, support\, and informal peer case consultation.  \n\n\n\n\n\n\n\nJoin Zoom Meeting \n\n\n\nhttps://us06web.zoom.us/j/87087970176?pwd=Kfio1n3FTiC3Rgk3w3S3MkoaTgO8Ux.1 \n\n\n\nMeeting ID: 870 8797 0176 \n\n\n\nPasscode: 876009 \n\n\n\n— \n\n\n\nOne tap mobile \n\n\n\n+13017158592\,\,87087970176#\,\,\,\,*876009# US (Washington DC) \n\n\n\n+13052241968\,\,87087970176#\,\,\,\,*876009# US \n\n\n\nJoin instructions \n\n\n\nhttps://us06web.zoom.us/meetings/87087970176/invitations?signature=b8coJK1ICciASChbaPwKzJ4NF4lpY4T4DMk4aVR9b3g
URL:https://iaedpfoundation.com/event/international-chapter-canada-monthly-peer-consultation-and-guidance-2/2030-07-25/
CATEGORIES:Chapter Event,Virtual
ATTACH;FMTTYPE=image/jpeg:https://iaedpfoundation.com/wp-content/uploads/2025/12/WhatsApp-Image-2025-10-21-at-11.56.45-AM.jpeg
END:VEVENT
BEGIN:VEVENT
DTSTART;TZID=America/New_York:20300926T120000
DTEND;TZID=America/New_York:20300926T130000
DTSTAMP:20260421T100224
CREATED:20260316T230422Z
LAST-MODIFIED:20260316T230453Z
UID:10000915-1916654400-1916658000@iaedpfoundation.com
SUMMARY:International Chapter Canada - Monthly Peer Consultation and Guidance
DESCRIPTION:Do you work in Eating Disorders and live in Canada?\n\n\n\nJoin our monthly virtual meeting to discuss our work. \n\n\n\nLast Thursday of each month from 9:00 am to 10:00 am PT / 12:00 pm to 1:00pm ET  \n\n\n\nThis virtual drop-in session is open to all Canadian iaedp members and those interested in joining. Hosted by Andrew Sofin\, iaedp Chapter Chair for Canada. The meeting offers networking\, peer guidance\, support\, and informal peer case consultation.  \n\n\n\n\n\n\n\nJoin Zoom Meeting \n\n\n\nhttps://us06web.zoom.us/j/87087970176?pwd=Kfio1n3FTiC3Rgk3w3S3MkoaTgO8Ux.1 \n\n\n\nMeeting ID: 870 8797 0176 \n\n\n\nPasscode: 876009 \n\n\n\n— \n\n\n\nOne tap mobile \n\n\n\n+13017158592\,\,87087970176#\,\,\,\,*876009# US (Washington DC) \n\n\n\n+13052241968\,\,87087970176#\,\,\,\,*876009# US \n\n\n\nJoin instructions \n\n\n\nhttps://us06web.zoom.us/meetings/87087970176/invitations?signature=b8coJK1ICciASChbaPwKzJ4NF4lpY4T4DMk4aVR9b3g
URL:https://iaedpfoundation.com/event/international-chapter-canada-monthly-peer-consultation-and-guidance-2/2030-09-26/
CATEGORIES:Chapter Event,Virtual
ATTACH;FMTTYPE=image/jpeg:https://iaedpfoundation.com/wp-content/uploads/2025/12/WhatsApp-Image-2025-10-21-at-11.56.45-AM.jpeg
END:VEVENT
BEGIN:VEVENT
DTSTART;TZID=America/New_York:20301128T120000
DTEND;TZID=America/New_York:20301128T130000
DTSTAMP:20260421T100224
CREATED:20260316T230422Z
LAST-MODIFIED:20260316T230453Z
UID:10000917-1922097600-1922101200@iaedpfoundation.com
SUMMARY:International Chapter Canada - Monthly Peer Consultation and Guidance
DESCRIPTION:Do you work in Eating Disorders and live in Canada?\n\n\n\nJoin our monthly virtual meeting to discuss our work. \n\n\n\nLast Thursday of each month from 9:00 am to 10:00 am PT / 12:00 pm to 1:00pm ET  \n\n\n\nThis virtual drop-in session is open to all Canadian iaedp members and those interested in joining. Hosted by Andrew Sofin\, iaedp Chapter Chair for Canada. The meeting offers networking\, peer guidance\, support\, and informal peer case consultation.  \n\n\n\n\n\n\n\nJoin Zoom Meeting \n\n\n\nhttps://us06web.zoom.us/j/87087970176?pwd=Kfio1n3FTiC3Rgk3w3S3MkoaTgO8Ux.1 \n\n\n\nMeeting ID: 870 8797 0176 \n\n\n\nPasscode: 876009 \n\n\n\n— \n\n\n\nOne tap mobile \n\n\n\n+13017158592\,\,87087970176#\,\,\,\,*876009# US (Washington DC) \n\n\n\n+13052241968\,\,87087970176#\,\,\,\,*876009# US \n\n\n\nJoin instructions \n\n\n\nhttps://us06web.zoom.us/meetings/87087970176/invitations?signature=b8coJK1ICciASChbaPwKzJ4NF4lpY4T4DMk4aVR9b3g
URL:https://iaedpfoundation.com/event/international-chapter-canada-monthly-peer-consultation-and-guidance-2/2030-11-28/
CATEGORIES:Chapter Event,Virtual
ATTACH;FMTTYPE=image/jpeg:https://iaedpfoundation.com/wp-content/uploads/2025/12/WhatsApp-Image-2025-10-21-at-11.56.45-AM.jpeg
END:VEVENT
BEGIN:VEVENT
DTSTART;TZID=America/New_York:20301226T120000
DTEND;TZID=America/New_York:20301226T130000
DTSTAMP:20260421T100224
CREATED:20260316T230422Z
LAST-MODIFIED:20260316T230453Z
UID:10000938-1924516800-1924520400@iaedpfoundation.com
SUMMARY:International Chapter Canada - Monthly Peer Consultation and Guidance
DESCRIPTION:Do you work in Eating Disorders and live in Canada?\n\n\n\nJoin our monthly virtual meeting to discuss our work. \n\n\n\nLast Thursday of each month from 9:00 am to 10:00 am PT / 12:00 pm to 1:00pm ET  \n\n\n\nThis virtual drop-in session is open to all Canadian iaedp members and those interested in joining. Hosted by Andrew Sofin\, iaedp Chapter Chair for Canada. The meeting offers networking\, peer guidance\, support\, and informal peer case consultation.  \n\n\n\n\n\n\n\nJoin Zoom Meeting \n\n\n\nhttps://us06web.zoom.us/j/87087970176?pwd=Kfio1n3FTiC3Rgk3w3S3MkoaTgO8Ux.1 \n\n\n\nMeeting ID: 870 8797 0176 \n\n\n\nPasscode: 876009 \n\n\n\n— \n\n\n\nOne tap mobile \n\n\n\n+13017158592\,\,87087970176#\,\,\,\,*876009# US (Washington DC) \n\n\n\n+13052241968\,\,87087970176#\,\,\,\,*876009# US \n\n\n\nJoin instructions \n\n\n\nhttps://us06web.zoom.us/meetings/87087970176/invitations?signature=b8coJK1ICciASChbaPwKzJ4NF4lpY4T4DMk4aVR9b3g
URL:https://iaedpfoundation.com/event/international-chapter-canada-monthly-peer-consultation-and-guidance-2/2030-12-26/
CATEGORIES:Chapter Event,Virtual
ATTACH;FMTTYPE=image/jpeg:https://iaedpfoundation.com/wp-content/uploads/2025/12/WhatsApp-Image-2025-10-21-at-11.56.45-AM.jpeg
END:VEVENT
BEGIN:VEVENT
DTSTART;TZID=America/New_York:20310227T120000
DTEND;TZID=America/New_York:20310227T130000
DTSTAMP:20260421T100224
CREATED:20260316T230422Z
LAST-MODIFIED:20260316T230453Z
UID:10001025-1929960000-1929963600@iaedpfoundation.com
SUMMARY:International Chapter Canada - Monthly Peer Consultation and Guidance
DESCRIPTION:Do you work in Eating Disorders and live in Canada?\n\n\n\nJoin our monthly virtual meeting to discuss our work. \n\n\n\nLast Thursday of each month from 9:00 am to 10:00 am PT / 12:00 pm to 1:00pm ET  \n\n\n\nThis virtual drop-in session is open to all Canadian iaedp members and those interested in joining. Hosted by Andrew Sofin\, iaedp Chapter Chair for Canada. The meeting offers networking\, peer guidance\, support\, and informal peer case consultation.  \n\n\n\n\n\n\n\nJoin Zoom Meeting \n\n\n\nhttps://us06web.zoom.us/j/87087970176?pwd=Kfio1n3FTiC3Rgk3w3S3MkoaTgO8Ux.1 \n\n\n\nMeeting ID: 870 8797 0176 \n\n\n\nPasscode: 876009 \n\n\n\n— \n\n\n\nOne tap mobile \n\n\n\n+13017158592\,\,87087970176#\,\,\,\,*876009# US (Washington DC) \n\n\n\n+13052241968\,\,87087970176#\,\,\,\,*876009# US \n\n\n\nJoin instructions \n\n\n\nhttps://us06web.zoom.us/meetings/87087970176/invitations?signature=b8coJK1ICciASChbaPwKzJ4NF4lpY4T4DMk4aVR9b3g
URL:https://iaedpfoundation.com/event/international-chapter-canada-monthly-peer-consultation-and-guidance-2/2031-02-27/
CATEGORIES:Chapter Event,Virtual
ATTACH;FMTTYPE=image/jpeg:https://iaedpfoundation.com/wp-content/uploads/2025/12/WhatsApp-Image-2025-10-21-at-11.56.45-AM.jpeg
END:VEVENT
END:VCALENDAR