BEGIN:VCALENDAR
VERSION:2.0
PRODID:-//International Association of Eating Disorders Professionals - ECPv6.15.18//NONSGML v1.0//EN
CALSCALE:GREGORIAN
METHOD:PUBLISH
X-WR-CALNAME:International Association of Eating Disorders Professionals
X-ORIGINAL-URL:https://iaedpfoundation.com
X-WR-CALDESC:Events for International Association of Eating Disorders Professionals
REFRESH-INTERVAL;VALUE=DURATION:PT1H
X-Robots-Tag:noindex
X-PUBLISHED-TTL:PT1H
BEGIN:VTIMEZONE
TZID:America/New_York
BEGIN:DAYLIGHT
TZOFFSETFROM:-0500
TZOFFSETTO:-0400
TZNAME:EDT
DTSTART:20250309T070000
END:DAYLIGHT
BEGIN:STANDARD
TZOFFSETFROM:-0400
TZOFFSETTO:-0500
TZNAME:EST
DTSTART:20251102T060000
END:STANDARD
BEGIN:DAYLIGHT
TZOFFSETFROM:-0500
TZOFFSETTO:-0400
TZNAME:EDT
DTSTART:20260308T070000
END:DAYLIGHT
BEGIN:STANDARD
TZOFFSETFROM:-0400
TZOFFSETTO:-0500
TZNAME:EST
DTSTART:20261101T060000
END:STANDARD
BEGIN:DAYLIGHT
TZOFFSETFROM:-0500
TZOFFSETTO:-0400
TZNAME:EDT
DTSTART:20270314T070000
END:DAYLIGHT
BEGIN:STANDARD
TZOFFSETFROM:-0400
TZOFFSETTO:-0500
TZNAME:EST
DTSTART:20271107T060000
END:STANDARD
END:VTIMEZONE
BEGIN:VEVENT
DTSTART;TZID=America/New_York:20260227T080000
DTEND;TZID=America/New_York:20260227T100000
DTSTAMP:20260422T063905
CREATED:20260211T213850Z
LAST-MODIFIED:20260303T004722Z
UID:10001007-1772179200-1772186400@iaedpfoundation.com
SUMMARY:Nashville: Binging to Cope: How Anxious Attachment Fuels Binge Eating—And What Clinicians Can Do
DESCRIPTION:This workshop synthesizes cutting-edge findings from three recent studies to illuminate how anxious attachment drives binge eating behaviors. This presentation demonstrates that binge eating is not merely a behavioral symptom\, but a maladaptive emotional regulation strategy rooted in unmet attachment needs. Clinicians will learn how to assess for anxious attachment\, recognize its behavioral signatures in binge episodes\, and integrate trauma-informed\, attachment-aware interventions that target the root—not just the symptom—of binge eating. \n\n\n\n\n\n\n\n \n\n\n\nEARN 1.5 CE Credit Hours
URL:https://iaedpfoundation.com/event/nashville-binging-to-cope-how-anxious-attachment-fuels-binge-eating-and-what-clinicians-can-do/
CATEGORIES:Chapter Event,Virtual,Webinar
ATTACH;FMTTYPE=image/png:https://iaedpfoundation.com/wp-content/uploads/2026/02/Screenshot-2026-02-11-133337.png
END:VEVENT
END:VCALENDAR